BEGIN:VCALENDAR
VERSION:2.0
PRODID:-//Funäsfjällens Lavinskola - ECPv6.2.9//NONSGML v1.0//EN
CALSCALE:GREGORIAN
METHOD:PUBLISH
X-WR-CALNAME:Funäsfjällens Lavinskola
X-ORIGINAL-URL:https://lavinskola.se
X-WR-CALDESC:Events for Funäsfjällens Lavinskola
REFRESH-INTERVAL;VALUE=DURATION:PT1H
X-Robots-Tag:noindex
X-PUBLISHED-TTL:PT1H
BEGIN:VTIMEZONE
TZID:Europe/Stockholm
BEGIN:DAYLIGHT
TZOFFSETFROM:+0100
TZOFFSETTO:+0200
TZNAME:CEST
DTSTART:20240331T010000
END:DAYLIGHT
BEGIN:STANDARD
TZOFFSETFROM:+0200
TZOFFSETTO:+0100
TZNAME:CET
DTSTART:20241027T010000
END:STANDARD
BEGIN:DAYLIGHT
TZOFFSETFROM:+0100
TZOFFSETTO:+0200
TZNAME:CEST
DTSTART:20250330T010000
END:DAYLIGHT
BEGIN:STANDARD
TZOFFSETFROM:+0200
TZOFFSETTO:+0100
TZNAME:CET
DTSTART:20251026T010000
END:STANDARD
END:VTIMEZONE
BEGIN:VEVENT
DTSTART;TZID=Europe/Stockholm:20250206T090000
DTEND;TZID=Europe/Stockholm:20250207T170000
DTSTAMP:20260421T163923
CREATED:20241015T070419Z
LAST-MODIFIED:20241212T110540Z
UID:1544-1738832400-1738947600@lavinskola.se
SUMMARY:Friåkning 1 för Topptur i Bruksvallarna
DESCRIPTION:SVELAV’s grundutbildning i självständig och säker färdsel i lavinterräng. Två dagar med instruktion\, teori\, övningar och färdsel i lavinterräng för skidåkare\, klättrare och fjällfarare. Kursen innehåller kamraträddning\, identifiering av lavinterräng och vägval\, beslutstöd för att hantera lavinterräng\, kunskap i hur man tolkar information om lavinfara och mänskliga faktorer som påverkat oss.\nKursen genomförs av en auktoriserad SVELAV instruktör (Sveriges Lavinutbildningar).\nInkluderat i kursavgiften: \n\nTransceiver\, sond\, spade (ta med egen lavin utrustning om du har det) och kurslitteratur.\n*Utlägg för liftkort och vessel biljett kan tillkomma under kursen beroende på väder och förhållanden.*\n\nAtt ta med: \n\nToppturs utrustning för att kunna färdas uppför och åka utför. T.ex randonee skidor eller splitboard (snöskor är ej rekommenderad). Mat\, dryck och kläder för en hel dag utomhus.\n\nFörkunskapskrav:\n\nPersonlig färdighet med din färdmedel och god form för en heldag utomhus.\n\nSamlingsplats: se kalendern för kursplats Bruksvallarnas Sportcenter\n\nBoende för kursen går att boka hos Bruksvallsliden\n\nPris: 3900 SEK(ink. moms)\n* Minimum antal deltagare 4\, max 8\n* Kontakta oss för familj/sällskapspaket \n*Detaljerad kurs information skickas via email efter bokning. \nTillbaka till Kursinformation
URL:https://lavinskola.se/event/friakning-1-for-topptur-i-bruksvallarna-5-2025-02-07/
LOCATION:Bruksvallarna
CATEGORIES:Friåknings Kurser
ATTACH;FMTTYPE=image/jpeg:https://lavinskola.se/wp-content/uploads/2022/10/IMG_2487.jpg
ORGANIZER;CN="Lavinskolan":MAILTO:info@lavinskola.se
END:VEVENT
BEGIN:VEVENT
DTSTART;TZID=Europe/Stockholm:20250131T090000
DTEND;TZID=Europe/Stockholm:20250201T170000
DTSTAMP:20260421T163923
CREATED:20241015T065834Z
LAST-MODIFIED:20241015T071119Z
UID:1534-1738314000-1738429200@lavinskola.se
SUMMARY:Friåkning 1 för Topptur i Tänndalen
DESCRIPTION:SVELAV’s grundutbildning i självständig och säker färdsel i lavinterräng. Två dagar med instruktion\, teori\, övningar och färdsel i lavinterräng för skidåkare\, klättrare och fjällfarare. Kursen innehåller kamraträddning\, identifiering av lavinterräng och vägval\, beslutstöd för att hantera lavinterräng\, kunskap i hur man tolkar information om lavinfara och mänskliga faktorer som påverkat oss.\nKursen genomförs av en auktoriserad SVELAV instruktör (Sveriges Lavinutbildningar).\nInkluderat i kursavgiften: \n\nTransceiver\, sond\, spade (ta med egen lavin utrustning om du har det) och kurslitteratur.\n*Utlägg för liftkort och vessel biljett kan tillkomma under kursen beroende på väder och förhållanden.*\n\nAtt ta med: \n\nToppturs utrustning för att kunna färdas uppför och åka utför. T.ex randonee skidor eller splitboard (snöskor är ej rekommenderad). Mat\, dryck och kläder för en hel dag utomhus.\n\nFörkunskapskrav:\n\nPersonlig färdighet med din färdmedel och god form för en heldag utomhus.\n\nSamlingsplats: se kalendern för kursplats\n\nTänndalen: Hammervallsvägen\n\nPris: 3900 SEK (ink. moms)\n* Minimum antal deltagare 4\, max 8\n* Kontakta oss för familj/sällskapspaket \n*Detaljerad kurs information skickas via email efter bokning. \nTillbaka till Kursinformation
URL:https://lavinskola.se/event/friakning-1-for-topptur-i-tanndalen-4/2025-01-31/
LOCATION:Funäsfjällens Lavinskola (Tänndalen)\, Hammervallsvägen\, Tänndalen\, 84698\, Sverige
CATEGORIES:Friåknings Kurser
ATTACH;FMTTYPE=image/jpeg:https://lavinskola.se/wp-content/uploads/2023/11/614905BD-C13B-445D-91B1-237D054A0EB7_1_105_c.jpeg
END:VEVENT
BEGIN:VEVENT
DTSTART;TZID=Europe/Stockholm:20250124T090000
DTEND;TZID=Europe/Stockholm:20250125T170000
DTSTAMP:20260421T163923
CREATED:20241015T070419Z
LAST-MODIFIED:20241212T110608Z
UID:1531-1737709200-1737824400@lavinskola.se
SUMMARY:Friåkning 1 för Topptur i Bruksvallarna
DESCRIPTION:SVELAV’s grundutbildning i självständig och säker färdsel i lavinterräng. Två dagar med instruktion\, teori\, övningar och färdsel i lavinterräng för skidåkare\, klättrare och fjällfarare. Kursen innehåller kamraträddning\, identifiering av lavinterräng och vägval\, beslutstöd för att hantera lavinterräng\, kunskap i hur man tolkar information om lavinfara och mänskliga faktorer som påverkat oss.\nKursen genomförs av en auktoriserad SVELAV instruktör (Sveriges Lavinutbildningar).\nInkluderat i kursavgiften: \n\nTransceiver\, sond\, spade (ta med egen lavin utrustning om du har det) och kurslitteratur.\n*Utlägg för liftkort och vessel biljett kan tillkomma under kursen beroende på väder och förhållanden.*\n\nAtt ta med: \n\nToppturs utrustning för att kunna färdas uppför och åka utför. T.ex randonee skidor eller splitboard (snöskor är ej rekommenderad). Mat\, dryck och kläder för en hel dag utomhus.\n\nFörkunskapskrav:\n\nPersonlig färdighet med din färdmedel och god form för en heldag utomhus.\n\nSamlingsplats: se kalendern för kursplats Bruksvallarnas Sportcenter\n\nBoende för kursen går att boka hos Bruksvallsliden\n\nPris: 3900 SEK(ink. moms)\n* Minimum antal deltagare 4\, max 8\n* Kontakta oss för familj/sällskapspaket \n*Detaljerad kurs information skickas via email efter bokning. \nTillbaka till Kursinformation
URL:https://lavinskola.se/event/friakning-1-for-topptur-i-bruksvallarna-5/2025-01-24/
LOCATION:Bruksvallarna
CATEGORIES:Friåknings Kurser
ATTACH;FMTTYPE=image/jpeg:https://lavinskola.se/wp-content/uploads/2022/10/IMG_2487.jpg
ORGANIZER;CN="Lavinskolan":MAILTO:info@lavinskola.se
END:VEVENT
BEGIN:VEVENT
DTSTART;TZID=Europe/Stockholm:20240412T090000
DTEND;TZID=Europe/Stockholm:20240413T170000
DTSTAMP:20260421T163923
CREATED:20240219T094808Z
LAST-MODIFIED:20240404T162556Z
UID:1453-1712912400-1713027600@lavinskola.se
SUMMARY:Friåkning 1 för Topptur i Bruksvallarna
DESCRIPTION:SVELAV’s grundutbildning i självständig och säker färdsel i lavinterräng. Två dagar med instruktion\, teori\, övningar och färdsel i lavinterräng för skidåkare\, klättrare och fjällfarare. Kursen innehåller kamraträddning\, identifiering av lavinterräng och vägval\, beslutstöd för att hantera lavinterräng\, kunskap i hur man tolkar information om lavinfara och mänskliga faktorer som påverkat oss.\nKursen genomförs av en auktoriserad SVELAV instruktör (Sveriges Lavinutbildningar).\nInkluderat i kursavgiften: \n\nTransceiver\, sond\, spade (ta med egen lavin utrustning om du har det) och kurslitteratur.\n*Utlägg för liftkort och vessel biljett kan tillkomma under kursen beroende på väder och förhållanden.*\n\nAtt ta med: \n\nToppturs utrustning för att kunna färdas uppför och åka utför. T.ex randonee skidor eller splitboard (snöskor är ej rekommenderad). Mat\, dryck och kläder för en hel dag utomhus.\n\nFörkunskapskrav:\n\nPersonlig färdighet med din färdmedel och god form för en heldag utomhus.\n\nSamlingsplats: se kalendern för kursplats\n\nBruksvallarnas Sportcenter\n\nBoende för kursen går att boka hos Bruksvallsliden\nPris: 3700 SEK(ink. moms)\n* Minimum antal deltagare 4\, max 8\n* Kontakta oss för familj/sällskapspaket \n*Detaljerad kurs information skickas via email efter bokning. \nTillbaka till Kursinformation
URL:https://lavinskola.se/event/friakning-1-for-topptur-i-bruksvallarna-4/
LOCATION:Bruksvallarna
CATEGORIES:Friåknings Kurser
ATTACH;FMTTYPE=image/jpeg:https://lavinskola.se/wp-content/uploads/2023/11/614905BD-C13B-445D-91B1-237D054A0EB7_1_105_c.jpeg
ORGANIZER;CN="John Wilcoxen":MAILTO:info@lavinskola.se
END:VEVENT
BEGIN:VEVENT
DTSTART;TZID=Europe/Stockholm:20240403T090000
DTEND;TZID=Europe/Stockholm:20240404T170000
DTSTAMP:20260421T163923
CREATED:20240328T142036Z
LAST-MODIFIED:20240328T142150Z
UID:1514-1712134800-1712250000@lavinskola.se
SUMMARY:Friåkning 1 i Tänndalen
DESCRIPTION:Påsk Friåkning 1\nNu erbjuder vi en Friåkning 1 med kortvarsel för andra påskveckan 3-4 April. Är ni 3 eller fler kan ni höra av er för en gruppris.\n\nSVELAV’s grundutbildning i självständig och säker färdsel i lavinterräng. Två dagar med instruktion\, teori\, övningar och färdsel i lavinterräng för skidåkare\, klättrare och fjällfarare. Kursen innehåller kamraträddning\, identifiering av lavinterräng och vägval\, beslutstöd för att hantera lavinterräng\, kunskap i hur man tolkar information om lavinfara och mänskliga faktorer som påverkat oss.Kursen genomförs av en auktoriserad SVELAV instruktör (Sveriges Lavinutbildningar).\nInkluderat i kursavgiften: \n\nTransceiver\, sond\, spade (ta med egen lavin utrustning om du har det) och kurslitteratur.\n*Utlägg för liftkort och vessel biljett kan tillkomma under kursen beroende på väder och förhållanden.*\n\nAtt ta med: \n\nToppturs utrustning för att kunna färdas uppför och åka utför. T.ex randonee skidor eller splitboard (snöskor är ej rekommenderad). Mat\, dryck och kläder för en hel dag utomhus.\n\nFörkunskapskrav:\n\nPersonlig färdighet med din färdmedel och god form för en heldag utomhus.\n\nSamlingsplats: se kalendern för kursplats\n\nTänndalen: Hammervallsvägen\n\nPris: 3700 SEK (ink. moms)\n* Minimum antal deltagare 4\, max 8\n* Kontakta oss för familj/sällskapspaket \n*Detaljerad kurs information skickas via email efter bokning. \nTillbaka till Kursinformation
URL:https://lavinskola.se/event/friakning-1-i-tanndalen/
LOCATION:Funäsfjällens Lavinskola (Tänndalen)\, Hammervallsvägen\, Tänndalen\, 84698\, Sverige
CATEGORIES:Friåknings Kurser
ATTACH;FMTTYPE=image/jpeg:https://lavinskola.se/wp-content/uploads/2023/11/614905BD-C13B-445D-91B1-237D054A0EB7_1_105_c.jpeg
ORGANIZER;CN="John Wilcoxen":MAILTO:info@lavinskola.se
END:VEVENT
BEGIN:VEVENT
DTSTART;TZID=Europe/Stockholm:20240322T080000
DTEND;TZID=Europe/Stockholm:20240323T170000
DTSTAMP:20260421T163923
CREATED:20240219T101123Z
LAST-MODIFIED:20240311T183856Z
UID:1457-1711094400-1711213200@lavinskola.se
SUMMARY:Skiers Left Stipendium Kurs: Friåkning 1 i Tänndalen
DESCRIPTION:Vi på Skiers Left är redo att skicka iväg en handplockad grupp unga (16-25 år) och motiverade skid- och brädåkare på praktiska lavinutbildningar i vår! Det är din chans att utveckla dina färdigheter\, boosta dina kunskaper och förbereda dig för nya äventyr\nNär du får du får besked från Skiers Left att du har fått ett stipendium boka din plats via email till info@lavinskola.se med rubrik: ’Skiers Left Stipendium’. \n\nSVELAV’s grundutbildning i självständig och säker färdsel i lavinterräng. Två dagar med instruktion\, teori\, övningar och färdsel i lavinterräng för skidåkare\, klättrare och fjällfarare. Kursen innehåller kamraträddning\, identifiering av lavinterräng och vägval\, beslutstöd för att\n\nhantera lavinterräng\, kunskap i hur man tolkar information om lavinfara och mänskliga faktorer som påverkat oss.\nKursen genomförs av en auktoriserad SVELAV instruktör (Sveriges Lavinutbildningar).\nInkluderat i kursavgiften: \n\nTransceiver\, sond\, spade (ta med egen lavin utrustning om du har det) och kurslitteratur.\n*Utlägg för liftkort och vessel biljett kan tillkomma under kursen beroende på väder och förhållanden.*\n\nAtt ta med: \n\nToppturs utrustning för att kunna färdas uppför och åka utför. T.ex randonee skidor eller splitboard (snöskor är ej rekommenderad). Mat\, dryck och kläder för en hel dag utomhus.\n\nFörkunskapskrav:\n\nPersonlig färdighet med din färdmedel och god form för en heldag utomhus.\n\nSamlingsplats: se kalendern för kursplats\n\nTänndalen: Hammervallsvägen\n\nPris: 3700 SEK(ink. moms)\n* Minimum antal deltagare 4\, max 8\n* Kontakta oss för familj/sällskapspaket \n*Detaljerad kurs information skickas via email efter bokning. \nTillbaka till Kursinformation
URL:https://lavinskola.se/event/skiers-left-stipendium-kurs-friakning-1-i-tanndalen/
LOCATION:Funäsfjällens Lavinskola (Tänndalen)\, Hammervallsvägen\, Tänndalen\, 84698\, Sverige
CATEGORIES:Friåknings Kurser
ATTACH;FMTTYPE=image/jpeg:https://lavinskola.se/wp-content/uploads/2023/12/ABBF4ADC-67DA-44FA-A453-C981B78BB109_4_5005_c.jpeg
ORGANIZER;CN="John Wilcoxen":MAILTO:info@lavinskola.se
END:VEVENT
BEGIN:VEVENT
DTSTART;TZID=Europe/Stockholm:20240322T080000
DTEND;TZID=Europe/Stockholm:20240323T170000
DTSTAMP:20260421T163923
CREATED:20231017T182649Z
LAST-MODIFIED:20240315T110153Z
UID:1230-1711094400-1711213200@lavinskola.se
SUMMARY:Friåkning 1 för Topptur i Bruksvallarna
DESCRIPTION:SVELAV’s grundutbildning i självständig och säker färdsel i lavinterräng. Två dagar med instruktion\, teori\, övningar och färdsel i lavinterräng för skidåkare\, klättrare och fjällfarare. Kursen innehåller kamraträddning\, identifiering av lavinterräng och vägval\, beslutstöd för att hantera lavinterräng\, kunskap i hur man tolkar information om lavinfara och mänskliga faktorer som påverkat oss.\nKursen genomförs av en auktoriserad SVELAV instruktör (Sveriges Lavinutbildningar).\nInkluderat i kursavgiften: \n\nTransceiver\, sond\, spade (ta med egen lavin utrustning om du har det) och kurslitteratur.\n*Utlägg för liftkort och vessel biljett kan tillkomma under kursen beroende på väder och förhållanden.*\n\nAtt ta med: \n\nToppturs utrustning för att kunna färdas uppför och åka utför. T.ex randonee skidor eller splitboard (snöskor är ej rekommenderad). Mat\, dryck och kläder för en hel dag utomhus.\n\nFörkunskapskrav:\n\nPersonlig färdighet med din färdmedel och god form för en heldag utomhus.\n\nSamlingsplats: se kalendern för kursplats\n\nBruksvallarnas Sportcenter\n\nBoende för kursen går att boka hos Bruksvallsliden\nPris: 3700 SEK (ink. moms)\n* Minimum antal deltagare 4\, max 8\n* Kontakta oss för familj/sällskapspaket \n*Detaljerad kurs information skickas via email efter bokning. \nTillbaka till Kursinformation
URL:https://lavinskola.se/event/friakning-1-for-topptur-i-bruksvallarna-3/
LOCATION:Funäsfjällens Lavinskola (Tänndalen)\, Hammervallsvägen\, Tänndalen\, 84698\, Sverige
CATEGORIES:Friåknings Kurser
ATTACH;FMTTYPE=image/jpeg:https://lavinskola.se/wp-content/uploads/2021/11/IMG_1754-e1637675447546.jpg
ORGANIZER;CN="John Wilcoxen":MAILTO:info@lavinskola.se
END:VEVENT
BEGIN:VEVENT
DTSTART;TZID=Europe/Stockholm:20240315T080000
DTEND;TZID=Europe/Stockholm:20240316T170000
DTSTAMP:20260421T163923
CREATED:20231017T182452Z
LAST-MODIFIED:20240312T133327Z
UID:1227-1710489600-1710608400@lavinskola.se
SUMMARY:Friåkning 1 för Topptur i Bruksvallarna
DESCRIPTION:SVELAV’s grundutbildning i självständig och säker färdsel i lavinterräng. Två dagar med instruktion\, teori\, övningar och färdsel i lavinterräng för skidåkare\, klättrare och fjällfarare. Kursen innehåller kamraträddning\, identifiering av lavinterräng och vägval\, beslutstöd för att hantera lavinterräng\, kunskap i hur man tolkar information om lavinfara och mänskliga faktorer som påverkat oss.\nKursen genomförs av en auktoriserad SVELAV instruktör (Sveriges Lavinutbildningar).\nInkluderat i kursavgiften: \n\nTransceiver\, sond\, spade (ta med egen lavin utrustning om du har det) och kurslitteratur.\n*Utlägg för liftkort och vessel biljett kan tillkomma under kursen beroende på väder och förhållanden.*\n\nAtt ta med: \n\nToppturs utrustning för att kunna färdas uppför och åka utför. T.ex randonee skidor eller splitboard (snöskor är ej rekommenderad). Mat\, dryck och kläder för en hel dag utomhus.\n\nFörkunskapskrav:\n\nPersonlig färdighet med din färdmedel och god form för en heldag utomhus.\n\nSamlingsplats: se kalendern för kursplats\n\nBruksvallarnas Sportcenter\n\nBoende för kursen går att boka hos Bruksvallsliden\nPris: 3700 SEK (ink. moms)\n* Minimum antal deltagare 4\, max 8\n* Kontakta oss för familj/sällskapspaket \n*Detaljerad kurs information skickas via email efter bokning. \nTillbaka till Kursinformation
URL:https://lavinskola.se/event/friakning-1-for-topptur-i-bruksvallarna-2/
LOCATION:Bruksvallarna
CATEGORIES:Friåknings Kurser
ATTACH;FMTTYPE=image/jpeg:https://lavinskola.se/wp-content/uploads/2021/11/IMG_1754-e1637675447546.jpg
ORGANIZER;CN="John Wilcoxen":MAILTO:info@lavinskola.se
END:VEVENT
BEGIN:VEVENT
DTSTART;TZID=Europe/Stockholm:20240304T080000
DTEND;TZID=Europe/Stockholm:20240306T170000
DTSTAMP:20260421T163923
CREATED:20240104T144740Z
LAST-MODIFIED:20240105T122746Z
UID:1384-1709539200-1709744400@lavinskola.se
SUMMARY:NYHET: Friåkning 2
DESCRIPTION:En tredagars fortsättningsutbildning med fokus på turplanering och förberedelser\, gruppkommunikation\, beslutsfattande\, inhämtning och prioritering av information samt säkra vägval på fjället. Utbildningen följer ett tydligt mönster med dagliga förberedelser\, genomförande och uppföljning\, inspirerat av professionell systematisk hantering av lavinrisk fast på ett sätt som är anpassat  för semester och rekreation. Metodiken är tydlig och enkel att ”ta med” från kursen och använda vid egen framtida åkning. \nStort fokus läggs vid förståelse för lavinprognosernas lavinproblem och hur deltagarna som grupp förhåller sig till aktuella sådana. Kursen är praktisk till sin karaktär och majoriteten av utbildningsmomenten sker ute på fjället. Det tydliga målet är att deltagarna är förberedda för att planera och genomföra egna toppturer och egen offpiståkning efter utbildningen. \nVad ingår: \n\nSkotertransport\nKurslitteratur\nSVELAV Instruktör\n\nVad du behöver ha med dig:  \n\nSkidor eller splitboard anpassad för randonne åkning med stighudar\nHjälm\nLavinryggsäck (går att hyra men det finns ett begränsat antal)\nKläder + mat/dryck för 3 stycken dagsturer\nSpade\, Sond och transceiver som är uppdaterade\, har tre antenner och en avmarkeringsfunktion. \n\nFörkunskapskrav: \n\nSVELAV Friåkning 1 \nGod kondition (Kunna gå 800 höjd meter per dag)\nBra rutin på användning av topptursutrustning\n\nDetaljerad UTBILDNINGSMÅL\nEfter utbildningen ska deltagaren kunna: \n\nHantera sin personliga risk i lavinterräng\n\nIdentifiera och beskriva lavinterräng: vilken terräng ska undvikas\nMäta/uppskatta lutning över en sträcka av 20 meter i kruxet av aktuell terräng\nObservera och förutse platser där snö ackumulerats av vindtransport\nBeskriva olika lavinproblem och hantering av dessa\nVälja tänkesätt beroende på situation och lavinproblem\nVälja lämpliga säkerhetstekniker beroende på terräng och lavinproblem\nAnvända checklistor vid planering\, genomförande och utvärdering av turer/åkning\nAnteckna och utvärdera varje dags vägval och beslut i syfte att förbättra dessa inför nästa dag\nFörstå begränsningarna i sin lavinutbildning när det gäller att bedöma lavinfara.\n\n\nSamla in och dokumentera information om väder\, snö och laviner\n\nGöra relevanta fältobservationer av väder\, snö och laviner\nUtföra förenklat kompressionstest och förenklat utökat kompressionstest samt tolka resultat som antingen plötsligt eller trögt\n\n\nGenomföra kamraträddning och larma\n\nSöka med transceiver och sond för att hitta två saknade samt prioritera vilken av dessa man ska gräva fram först\nGenomföra strukturerad och effektiv grävning\nLarma på ett ordnat sätt\n\n\n\nPris: 5550 (inkl moms)
URL:https://lavinskola.se/event/friakning-2-nyhet/
LOCATION:Funäsfjällens Lavinskola (Tänndalen)\, Hammervallsvägen\, Tänndalen\, 84698\, Sverige
CATEGORIES:Friåknings Kurser
ATTACH;FMTTYPE=image/jpeg:https://lavinskola.se/wp-content/uploads/2021/09/DSCN0757-scaled.jpg
ORGANIZER;CN="John Wilcoxen":MAILTO:info@lavinskola.se
END:VEVENT
BEGIN:VEVENT
DTSTART;TZID=Europe/Stockholm:20240222T080000
DTEND;TZID=Europe/Stockholm:20240223T170000
DTSTAMP:20260421T163923
CREATED:20231017T182210Z
LAST-MODIFIED:20240219T110115Z
UID:1223-1708588800-1708707600@lavinskola.se
SUMMARY:Friåkning 1 för Topptur i Bruksvallarna
DESCRIPTION:SVELAV’s grundutbildning i självständig och säker färdsel i lavinterräng. Två dagar med instruktion\, teori\, övningar och färdsel i lavinterräng för skidåkare\, klättrare och fjällfarare. Kursen innehåller kamraträddning\, identifiering av lavinterräng och vägval\, beslutstöd för att hantera lavinterräng\, kunskap i hur man tolkar information om lavinfara och mänskliga faktorer som påverkat oss.\nKursen genomförs av en auktoriserad SVELAV instruktör (Sveriges Lavinutbildningar).\nInkluderat i kursavgiften: \n\nTransceiver\, sond\, spade (ta med egen lavin utrustning om du har det) och kurslitteratur.\n*Utlägg för liftkort och vessel biljett kan tillkomma under kursen beroende på väder och förhållanden.*\n\nAtt ta med: \n\nToppturs utrustning för att kunna färdas uppför och åka utför. T.ex randonee skidor eller splitboard (snöskor är ej rekommenderad). Mat\, dryck och kläder för en hel dag utomhus.\n\nFörkunskapskrav:\n\nPersonlig färdighet med din färdmedel och god form för en heldag utomhus.\n\nSamlingsplats: se kalendern för kursplats\n\nBruksvallarnas Sportcenter\n\nBoende för kursen går att boka hos Bruksvallsliden\nPris: 3700 SEK(ink. moms)\n* Minimum antal deltagare 4\, max 8\n* Kontakta oss för familj/sällskapspaket \n*Detaljerad kurs information skickas via email efter bokning. \nTillbaka till Kursinformation
URL:https://lavinskola.se/event/friakning-1-for-topptur-i-bruksvallarna/
LOCATION:Bruksvallarna
CATEGORIES:Friåknings Kurser
ATTACH;FMTTYPE=image/jpeg:https://lavinskola.se/wp-content/uploads/2021/11/IMG_1754-e1637675447546.jpg
ORGANIZER;CN="John Wilcoxen":MAILTO:info@lavinskola.se
END:VEVENT
BEGIN:VEVENT
DTSTART;TZID=Europe/Stockholm:20240216T090000
DTEND;TZID=Europe/Stockholm:20240217T170000
DTSTAMP:20260421T163923
CREATED:20231017T181537Z
LAST-MODIFIED:20231227T082853Z
UID:1220-1708074000-1708189200@lavinskola.se
SUMMARY:Friåkning 1 för Topptur i Tänndalen
DESCRIPTION:SVELAV’s grundutbildning i självständig och säker färdsel i lavinterräng. Två dagar med instruktion\, teori\, övningar och färdsel i lavinterräng för skidåkare\, klättrare och fjällfarare. Kursen innehåller kamraträddning\, identifiering av lavinterräng och vägval\, beslutstöd för att hantera lavinterräng\, kunskap i hur man tolkar information om lavinfara och mänskliga faktorer som påverkat oss.\nKursen genomförs av en auktoriserad SVELAV instruktör (Sveriges Lavinutbildningar).\nInkluderat i kursavgiften: \n\nTransceiver\, sond\, spade (ta med egen lavin utrustning om du har det) och kurslitteratur.\n*Utlägg för liftkort och vessel biljett kan tillkomma under kursen beroende på väder och förhållanden.*\n\nAtt ta med: \n\nToppturs utrustning för att kunna färdas uppför och åka utför. T.ex randonee skidor eller splitboard (snöskor är ej rekommenderad). Mat\, dryck och kläder för en hel dag utomhus.\n\nFörkunskapskrav:\n\nPersonlig färdighet med din färdmedel och god form för en heldag utomhus.\n\nSamlingsplats: se kalendern för kursplats\n\nTänndalen: Hammervallsvägen\n\nPris: 3700 SEK(ink. moms)\n* Minimum antal deltagare 4\, max 8\n* Kontakta oss för familj/sällskapspaket \n*Detaljerad kurs information skickas via email efter bokning. \nTillbaka till Kursinformation
URL:https://lavinskola.se/event/friakning-1-for-topptur-i-tanndalen-3/
LOCATION:Funäsfjällens Lavinskola (Tänndalen)\, Hammervallsvägen\, Tänndalen\, 84698\, Sverige
CATEGORIES:Friåknings Kurser
ATTACH;FMTTYPE=image/jpeg:https://lavinskola.se/wp-content/uploads/2022/10/IMG_2298-scaled.jpeg
ORGANIZER;CN="John Wilcoxen":MAILTO:info@lavinskola.se
END:VEVENT
BEGIN:VEVENT
DTSTART;TZID=Europe/Stockholm:20240209T080000
DTEND;TZID=Europe/Stockholm:20240210T170000
DTSTAMP:20260421T163923
CREATED:20231012T134857Z
LAST-MODIFIED:20231227T082803Z
UID:1213-1707465600-1707584400@lavinskola.se
SUMMARY:Friåkning 1 för Topptur i Tänndalen
DESCRIPTION:SVELAV’s grundutbildning i självständig och säker färdsel i lavinterräng. Två dagar med instruktion\, teori\, övningar och färdsel i lavinterräng för skidåkare\, klättrare och fjällfarare. Kursen innehåller kamraträddning\, identifiering av lavinterräng och vägval\, beslutstöd för att hantera lavinterräng\, kunskap i hur man tolkar information om lavinfara och mänskliga faktorer som påverkat oss.\nKursen genomförs av en auktoriserad SVELAV instruktör (Sveriges Lavinutbildningar).\nInkluderat i kursavgiften: \n\nTransceiver\, sond\, spade (ta med egen lavin utrustning om du har det) och kurslitteratur.\n*Utlägg för liftkort och vessel biljett kan tillkomma under kursen beroende på väder och förhållanden.*\n\nAtt ta med: \n\nToppturs utrustning för att kunna färdas uppför och åka utför. T.ex randonee skidor eller splitboard (snöskor är ej rekommenderad). Mat\, dryck och kläder för en hel dag utomhus.\n\nFörkunskapskrav:\n\nPersonlig färdighet med din färdmedel och god form för en heldag utomhus.\n\nSamlingsplats: se kalendern för kursplats\n\nTänndalen: Hammervallsvägen\n\nPris: 3700 SEK(ink. moms)\n* Minimum antal deltagare 4\, max 8\n* Kontakta oss för familj/sällskapspaket \n*Detaljerad kurs information skickas via email efter bokning. \nTillbaka till Kursinformation
URL:https://lavinskola.se/event/friakning-1-for-topptur-i-tanndalen-2/
LOCATION:Funäsfjällens Lavinskola (Tänndalen)\, Hammervallsvägen\, Tänndalen\, 84698\, Sverige
CATEGORIES:Friåknings Kurser
ATTACH;FMTTYPE=image/jpeg:https://lavinskola.se/wp-content/uploads/2022/10/IMG_5626-scaled.jpeg
ORGANIZER;CN="John Wilcoxen":MAILTO:info@lavinskola.se
END:VEVENT
BEGIN:VEVENT
DTSTART;TZID=Europe/Stockholm:20240202T090000
DTEND;TZID=Europe/Stockholm:20240203T170000
DTSTAMP:20260421T163923
CREATED:20231012T132938Z
LAST-MODIFIED:20241015T070307Z
UID:1204-1706864400-1706979600@lavinskola.se
SUMMARY:Friåkning 1 för Topptur i Tänndalen
DESCRIPTION:SVELAV’s grundutbildning i självständig och säker färdsel i lavinterräng. Två dagar med instruktion\, teori\, övningar och färdsel i lavinterräng för skidåkare\, klättrare och fjällfarare. Kursen innehåller kamraträddning\, identifiering av lavinterräng och vägval\, beslutstöd för att hantera lavinterräng\, kunskap i hur man tolkar information om lavinfara och mänskliga faktorer som påverkat oss.\nKursen genomförs av en auktoriserad SVELAV instruktör (Sveriges Lavinutbildningar).\nInkluderat i kursavgiften: \n\nTransceiver\, sond\, spade (ta med egen lavin utrustning om du har det) och kurslitteratur.\n*Utlägg för liftkort och vessel biljett kan tillkomma under kursen beroende på väder och förhållanden.*\n\nAtt ta med: \n\nToppturs utrustning för att kunna färdas uppför och åka utför. T.ex randonee skidor eller splitboard (snöskor är ej rekommenderad). Mat\, dryck och kläder för en hel dag utomhus.\n\nFörkunskapskrav:\n\nPersonlig färdighet med din färdmedel och god form för en heldag utomhus.\n\nSamlingsplats: se kalendern för kursplats\n\nTänndalen: Hammervallsvägen\n\nPris: 3700 SEK (ink. moms)\n* Minimum antal deltagare 4\, max 8\n* Kontakta oss för familj/sällskapspaket \n*Detaljerad kurs information skickas via email efter bokning. \nTillbaka till Kursinformation
URL:https://lavinskola.se/event/friakning-1-for-topptur-i-tanndalen/
LOCATION:Funäsfjällens Lavinskola (Tänndalen)\, Hammervallsvägen\, Tänndalen\, 84698\, Sverige
CATEGORIES:Friåknings Kurser
ATTACH;FMTTYPE=image/jpeg:https://lavinskola.se/wp-content/uploads/2022/10/IMG_2298-scaled.jpeg
ORGANIZER;CN="John Wilcoxen":MAILTO:info@lavinskola.se
END:VEVENT
END:VCALENDAR