BEGIN:VCALENDAR
VERSION:2.0
PRODID:-//Funäsfjällens Lavinskola - ECPv6.2.9//NONSGML v1.0//EN
CALSCALE:GREGORIAN
METHOD:PUBLISH
X-WR-CALNAME:Funäsfjällens Lavinskola
X-ORIGINAL-URL:https://lavinskola.se
X-WR-CALDESC:Events for Funäsfjällens Lavinskola
REFRESH-INTERVAL;VALUE=DURATION:PT1H
X-Robots-Tag:noindex
X-PUBLISHED-TTL:PT1H
BEGIN:VTIMEZONE
TZID:Europe/Stockholm
BEGIN:DAYLIGHT
TZOFFSETFROM:+0100
TZOFFSETTO:+0200
TZNAME:CEST
DTSTART:20250330T010000
END:DAYLIGHT
BEGIN:STANDARD
TZOFFSETFROM:+0200
TZOFFSETTO:+0100
TZNAME:CET
DTSTART:20251026T010000
END:STANDARD
END:VTIMEZONE
BEGIN:VEVENT
DTSTART;TZID=Europe/Stockholm:20250106T080000
DTEND;TZID=Europe/Stockholm:20250108T170000
DTSTAMP:20260421T133348
CREATED:20241021T102056Z
LAST-MODIFIED:20241021T111356Z
UID:1573-1736150400-1736355600@lavinskola.se
SUMMARY:Pro 1: Introduktions till Lavinsäkerhetsarbete
DESCRIPTION:Grundutbildning i lavinsäkerhet för yrkesmänniskor som jobbar utomhus i fjällmiljö. Kursen ger lavinkunskap inom ramarna för svensk arbetsmiljö. Tre dagars kurs som går igenom lavinkunskap\, terräng identifiering\, kamraträddning\, organiserad räddning\, säkerhetsrutiner och utrustning\, riskanalys\, inhämtning av lavininformation\, rapportering av olyckor och observationer och mänskliga faktorer. Examinationsmoment i kamraträddning och identifiering av lavinterräng sker under kursen.\nFörkunskapskrav: \n\nUtbildning i Första hjälpen motsvarande minst tre dagar och som inkluderar HLR och hypotermi. Exempelvis SLAO Första hjälpen i backe\, NOLS Wilderness First Aid eller Adventure Medicine AOV\nGod fysisk form och möjlighet att transportera sig i pisten på ett kontrollerat och säkert sätt.\nPersonlig färdighet med din färdmedel (toppturskidor/snowboard).\n\nInkluderat i kursavgiften: \n\nTransceiver\, sond\, spade (ta med egen lavin utrustning om du har det) och kurslitteratur.\n*Utlägg för liftkort och vessel biljett kan tillkomma under kursen beroende på väder och förhållanden.*\n\nSamlingsplats:\n\nTänndalen. Detaljerad kurs information skickas via email efter bokning.\n\nPacklista:\n\nAnteckningsmaterial\nKlädsel lämplig för utomhusbruk\nFörstärkningsplagg (varm väst/jacka)\nTermos\, vatten och energirik mat\nObligatorisk: \n\nHjälm och glasögon/skyddsglasögon\nSkidor/splitboard\, stighudar\, stavar och pjäxor\nLavinryggsäck (ABS/Jetforce/LiTec). Går att hyra.\n\n\n\nMinimum antal deltagare: 4 \nMaximum antal deltagare: 6 \nPris: 5800 SEK (ink moms)\n \n \n\nÖVERGRIPANDE UTBILDNINGSMÅL: Deltagarna ska efter utbildningen… \n\nvara förberedda för yrkesmässigt arbete i lavinterräng\, under ledning eller med stöd av arbetsrutiner\nha kunskap och förmåga att ta ansvar för sin säkerhet och arbetsmiljö i närheten av lavinterräng\nkunna använda riskreducerande åtgärder\nsjälvständigt kunna genomföra en kamraträddning\, kunna överlämna ansvaret till organiserad räddning och kunna delta i en organiserad räddning under ledning.\n\nDETALJERADE UTBILDNINGSMÅL: Efter utbildningen ska deltagaren kunna…\n\nidentifiera och undvika lavinfarlig terräng (examineras)\ntolka\, använda och förmedla information om lavinfarlig terräng\nanvända riskreducerande åtgärder\nbeskriva hur mänskliga faktorer påverkar beslut och handling’\ngenomföra en effektiv och säker kamraträddning (examineras)\nstyrande lagstiftningar och hur man rapporterar olyckor och incidenter.\n\nEfter utbildningen ska deltagaren ha kännedom om:\n\ngrunderna i snökunskap och snöstabilitetsbedömning\nhur man tolkar och använder information om lavinfara\nhur man tolkar och använder väderinformation\nhur man rapporterar intressanta observationer\nSVELAV:s övriga yrkesinriktade lavinutbildningar.
URL:https://lavinskola.se/event/pro-1-introduktions-till-lavinsakerhetsarbete/
LOCATION:Funäsfjällens Lavinskola (Tänndalen)\, Hammervallsvägen\, Tänndalen\, 84698\, Sverige
CATEGORIES:Pro kurser
ATTACH;FMTTYPE=image/jpeg:https://lavinskola.se/wp-content/uploads/2022/10/IMG_1426-scaled.jpg
ORGANIZER;CN="John Wilcoxen":MAILTO:info@lavinskola.se
END:VEVENT
BEGIN:VEVENT
DTSTART;TZID=Europe/Stockholm:20250109T080000
DTEND;TZID=Europe/Stockholm:20250110T170000
DTSTAMP:20260421T133348
CREATED:20241025T062059Z
LAST-MODIFIED:20241025T062236Z
UID:1626-1736409600-1736528400@lavinskola.se
SUMMARY:Pro Lavinräddning
DESCRIPTION:Två dagars utbildning som riktar sig främst till de som genom sin yrkesroll kan komma att ingå i en organiserad lavinräddning. Det gäller exempelvis skidpatrullörer/pistörer\, fjällräddare\, olika typer av guider\, skidlärare\, liftvärdar med flera.\nÖVERGRIPANDE UTBILDNINGSMÅL: deltagarna ska kunna:\n\nIdentifiera\, bedöma och hantera risker vid en lavinolycka och – om säkerheten medger- påbörja en lavinräddning.\nHa förståelse för hur en lavinräddning organiseras för att initialt kunna leda en insats med hjälp av beslutsstöd och sedan överlämna det övergripande ansvaret när situationen så medger.\nSjälvständigt kunna utföra följande delmoment av räddningsinsatsen; initial organisation\, transceiversök\, RECCO-sök\, grävning och första-hjälpen-omhändertagande.\n\nDELMÅL SÄKERHET OCH ORGANISATION: Efter godkänd utbildning ska deltagarna kunna:\n\nFörklara skillnaden mellan kamraträddning och organiserad lavinräddning.\nBeskriva de viktigaste momenten i en organiserad lavinräddning.\nBedöma och hantera risker vid en lavinolycka med hjälp av beslutsstöd.\nStarta upp den initiala fasen i en organiserad lavinräddningen med hjälp av beslutsstöd.\nPrioritera resurserna vid flera saknade och skadade.\n\nDELMÅL SÖKSYSTEM: Efter utbildningen ska deltagaren kunna:\n\nSöka med transceiver och sond för att hitta två saknade samt prioritera vilken av dessa man skall gräva fram först (examineras).\nSöka med RECCO och sond för att hitta två saknade samt prioritera vilken av dessa man skall gräva fram först.\nLeda sondkedjor enligt två tekniker.\nLavinhund som söksystem.\nHelikopterns roll vid lavinolyckor.\n\nDELMÅL GRÄVNING: Efter utbildningen ska deltagarna kunna:\n\nGenomföra strukturerad och effektiv grävning.\nOrganisera och leda sådan grävning.\n\nDELMÅL OMHÄNDERTAGANDE OCH LAVINMEDICIN: Efter utbildningen ska deltagarna kunna:\n\nGenomföra ett första omhändertagande av lavinskadad (HLR och Första hjälpen).\nFölja samt fylla i algoritm AvaLife BLS.\nGrunderna i lavinmedicin.\n\nFÖRKUNSKAPSKRAV DELTAGARE\n\nMinst tre dagars första-hjälpen-utbildning med följande innehåll:\n\nS/L-ABCDE (eller liknande algoritm)\nHjärt- och lungräddning\nHypotermi\nImmobilisering inklusive stabilisering av frakturer\n\n\nDeltagarna bör även ha tränat sökning med transceiver innan kursen\n\nMinimum antal deltagare: 4 \nMaximum antal deltagare: 6 \nPris: 4800 SEK inklusive moms
URL:https://lavinskola.se/event/pro-lavinraddning-2/
LOCATION:Funäsdalsberget
CATEGORIES:Pro kurser
ATTACH;FMTTYPE=image/jpeg:https://lavinskola.se/wp-content/uploads/2024/10/7D4CBD4F-90C7-4098-91E0-4B72981351F6_4_5005_c.jpeg
ORGANIZER;CN="Lavinskolan":MAILTO:info@lavinskola.se
END:VEVENT
BEGIN:VEVENT
DTSTART;TZID=Europe/Stockholm:20250120T080000
DTEND;TZID=Europe/Stockholm:20250126T170000
DTSTAMP:20260421T133348
CREATED:20241024T132513Z
LAST-MODIFIED:20250112T193530Z
UID:1611-1737360000-1737910800@lavinskola.se
SUMMARY:Pro 2: Lavintekniker
DESCRIPTION:SVELAV’s Lavintekniker kurs för yrkespersoner som jobbar aktivt med lavinfara (guider\, skidpatrull\, observatörer i lavinprognostjänsten\, m.m.). Träning i systematisk arbete för att samla in snö\, lavin och väderinformation på ett standardiserad sätt. Kursen har moment både i fält och inomhus. Kraven på kamraträddning höjs och deltagaren förväntas kunna självständigt genomföra kamraträddning under försvårade förhållanden. Bild: Rickard Lövgren\nDatum 2025: Januari 20 – 26\n \n\n60 timmar över 7 dagar. Utöver det tillkommer egen tid för läsning\, av minst en timme per dag.\nViss kurslitteratur är inkluderat men vissa resurser måste deltagaren skaffa och läsa innan kursstart.\nKrävande kurs både fysiskt och mentalt.\nUnder kursen används Observation Guidelines and Recording Standards for Weather\, Snowpack and Avalanches (OGRS) från Canadian Avalanche Association som branschstandard.\nKursen kan delas upp i tre moduler; dag 1-3\, dag 4-6 samt dag 7 (examen).\n\n\nFörkunskapskrav: \n\nSVELAV Pro 1\, SLAO Lavin 1 eller motsvarande utbildning.\nSVELAV Pro Lavinräddning eller motsvarande utbildning.\nDeltagarna måste kunna åka offpist samt ha god kondition.\nDeltagarna måste vara duktiga på sökning med transceiver\, sond och spade.\nGoda engelska språkkunskaper.\n\nUtbildningsmål: Efter avslutad Pro 2 utbildning ska deltagarna…\n\nvara förberedda för självständigt yrkesmässigt arbete i lavinterräng.\nkunna vidta riskreducerande åtgärder även under försvårande omständigheter.\nsjälvständigt kunna samla och tolka information om lavinfara och kunna värdera risker för laviner och bedöma lavinfara.\nfackmässigt kunna vidareförmedla och diskutera informationen med andra.\nUnder ledning eller med hjälp av arbetsrutiner kunna ta ett visst ansvar även för kollegors säkerhet.\n\nDetaljerade Utbildningsmål: Efter avslutad Pro 2 utbildning ska deltagarna…\n\nHa förståelse för hur\, var och när laviner uppstår\nFörståelse för begreppet lavinfara och risker för människor\nKunna beskriva och klassificera lavinterräng\nKunna beskriva hur snötäckets egenskaper påverkar lavinfaran\nKunna beskriva och inhämta relevant väderinformation.\nKunna inhämta relevant information om snötäcket och lavinaktivitet\nKunna självständigt och yrkesmässigt prioritera relevansen vid inhämtandet av ovanstående data\nKunna bedöma och kommunicera en korrekt lavinfara\nKunna använda riskreducerande åtgärder\nHa förståelse för hur mänskliga faktorer påverkar individen och arbetet.\nHa förståelse för den nordamerikanska lavinskalan och kännedom om den europeiska varianten.\nHa förståelse för hur det yrkesmässiga arbetet anpassas efter rådande förhållanden\nKänna till det svenska rapportsystemet för att utbyta info om väder\, snö och laviner\n\nVad ingår:\n\nSnow study kit (rast\, termometer\, tumstock\, lupp)\nKursliteratur\nFältbok\nSkoter transport\n\nIngår inte:\n\nLiftkort (eventuella utgifter för liftkort 1-2 dagar)\nBoende och logi\nEventuell bil transport\n\nMinimum Antal: 4\nMax Antal: 6\nAnmäla via email till info@lavinskola.se med:\n\nFörkunskaps dokument.\nEn kort meddelande om varför du vill gå kursen.\nFaktura adress.\n\nBetalning\n\nBetalning sker via faktura efter godkänt anmälan.\nDin plats är reserverad när du får fakturan.\n\nDatum 2025: Januari 20 – 26\nAnmäl Intresse via email\nPris: 17 000 SEK inklusive moms\n(1 Plats kvar)
URL:https://lavinskola.se/event/pro-2-lavintekniker/
LOCATION:Funäsfjällens Lavinskola (Tänndalen)\, Hammervallsvägen\, Tänndalen\, 84698\, Sverige
CATEGORIES:Pro 2: Lavintekniker,Pro kurser
ATTACH;FMTTYPE=image/jpeg:https://lavinskola.se/wp-content/uploads/2021/11/20210420_140722-@rickard.lovgren-scaled.jpg
ORGANIZER;CN="Lavinskolan":MAILTO:info@lavinskola.se
END:VEVENT
BEGIN:VEVENT
DTSTART;TZID=Europe/Stockholm:20250124T090000
DTEND;TZID=Europe/Stockholm:20250125T170000
DTSTAMP:20260421T133348
CREATED:20241015T070419Z
LAST-MODIFIED:20241212T110608Z
UID:1531-1737709200-1737824400@lavinskola.se
SUMMARY:Friåkning 1 för Topptur i Bruksvallarna
DESCRIPTION:SVELAV’s grundutbildning i självständig och säker färdsel i lavinterräng. Två dagar med instruktion\, teori\, övningar och färdsel i lavinterräng för skidåkare\, klättrare och fjällfarare. Kursen innehåller kamraträddning\, identifiering av lavinterräng och vägval\, beslutstöd för att hantera lavinterräng\, kunskap i hur man tolkar information om lavinfara och mänskliga faktorer som påverkat oss.\nKursen genomförs av en auktoriserad SVELAV instruktör (Sveriges Lavinutbildningar).\nInkluderat i kursavgiften: \n\nTransceiver\, sond\, spade (ta med egen lavin utrustning om du har det) och kurslitteratur.\n*Utlägg för liftkort och vessel biljett kan tillkomma under kursen beroende på väder och förhållanden.*\n\nAtt ta med: \n\nToppturs utrustning för att kunna färdas uppför och åka utför. T.ex randonee skidor eller splitboard (snöskor är ej rekommenderad). Mat\, dryck och kläder för en hel dag utomhus.\n\nFörkunskapskrav:\n\nPersonlig färdighet med din färdmedel och god form för en heldag utomhus.\n\nSamlingsplats: se kalendern för kursplats Bruksvallarnas Sportcenter\n\nBoende för kursen går att boka hos Bruksvallsliden\n\nPris: 3900 SEK(ink. moms)\n* Minimum antal deltagare 4\, max 8\n* Kontakta oss för familj/sällskapspaket \n*Detaljerad kurs information skickas via email efter bokning. \nTillbaka till Kursinformation
URL:https://lavinskola.se/event/friakning-1-for-topptur-i-bruksvallarna-5/2025-01-24/
LOCATION:Bruksvallarna
CATEGORIES:Friåknings Kurser
ATTACH;FMTTYPE=image/jpeg:https://lavinskola.se/wp-content/uploads/2022/10/IMG_2487.jpg
ORGANIZER;CN="Lavinskolan":MAILTO:info@lavinskola.se
END:VEVENT
BEGIN:VEVENT
DTSTART;TZID=Europe/Stockholm:20250131T090000
DTEND;TZID=Europe/Stockholm:20250201T170000
DTSTAMP:20260421T133348
CREATED:20241015T065834Z
LAST-MODIFIED:20241015T071119Z
UID:1534-1738314000-1738429200@lavinskola.se
SUMMARY:Friåkning 1 för Topptur i Tänndalen
DESCRIPTION:SVELAV’s grundutbildning i självständig och säker färdsel i lavinterräng. Två dagar med instruktion\, teori\, övningar och färdsel i lavinterräng för skidåkare\, klättrare och fjällfarare. Kursen innehåller kamraträddning\, identifiering av lavinterräng och vägval\, beslutstöd för att hantera lavinterräng\, kunskap i hur man tolkar information om lavinfara och mänskliga faktorer som påverkat oss.\nKursen genomförs av en auktoriserad SVELAV instruktör (Sveriges Lavinutbildningar).\nInkluderat i kursavgiften: \n\nTransceiver\, sond\, spade (ta med egen lavin utrustning om du har det) och kurslitteratur.\n*Utlägg för liftkort och vessel biljett kan tillkomma under kursen beroende på väder och förhållanden.*\n\nAtt ta med: \n\nToppturs utrustning för att kunna färdas uppför och åka utför. T.ex randonee skidor eller splitboard (snöskor är ej rekommenderad). Mat\, dryck och kläder för en hel dag utomhus.\n\nFörkunskapskrav:\n\nPersonlig färdighet med din färdmedel och god form för en heldag utomhus.\n\nSamlingsplats: se kalendern för kursplats\n\nTänndalen: Hammervallsvägen\n\nPris: 3900 SEK (ink. moms)\n* Minimum antal deltagare 4\, max 8\n* Kontakta oss för familj/sällskapspaket \n*Detaljerad kurs information skickas via email efter bokning. \nTillbaka till Kursinformation
URL:https://lavinskola.se/event/friakning-1-for-topptur-i-tanndalen-4/2025-01-31/
LOCATION:Funäsfjällens Lavinskola (Tänndalen)\, Hammervallsvägen\, Tänndalen\, 84698\, Sverige
CATEGORIES:Friåknings Kurser
ATTACH;FMTTYPE=image/jpeg:https://lavinskola.se/wp-content/uploads/2023/11/614905BD-C13B-445D-91B1-237D054A0EB7_1_105_c.jpeg
END:VEVENT
BEGIN:VEVENT
DTSTART;TZID=Europe/Stockholm:20250131T090000
DTEND;TZID=Europe/Stockholm:20250201T170000
DTSTAMP:20260421T133348
CREATED:20241023T144419Z
LAST-MODIFIED:20250127T141024Z
UID:1591-1738314000-1738429200@lavinskola.se
SUMMARY:Friåkning 1 Snöskoter
DESCRIPTION:Samma kunskapsmål som en Friåkning 1 för topptur men på snöskoter. Riktat till alla friåkare\, både nya och erfarna\, som behöver kunskap för att åka säkrare i lavinterräng. SVELAV’s grundutbildning i självständig och säker färdsel i lavinterräng. Två dagar med instruktion. Kursen innehåller kamraträddning\, identifiering av lavinterräng och vägval\, beslutstöd för att hantera lavinterräng\, kunskap i hur man tolkar information om lavinfara och mänskliga faktorer som påverkar oss. Kursen genomförs av en auktoriserad SVELAV instruktör (Sveriges Lavinutbildningar).\nInkluderat i kursavgiften: \n\nTransceiver\, sond\, spade (ta med egen lavin utrustning om du har det) och kurslitteratur.\nLunch dag 1\nFörmiddagsfika dag 2\n\nAtt ta med: \n\nFriåknings skoter och bränsle (en snöskoter som du behärskar utanför leden i varierade snöförhållanden).\nSkoterhjälm och övrig kroppsskydd (skor\, knäskydd\, bröstplatta\, ryggskydd m.fl)\nRyggsäck (minst 20 liter).\nBil och släp för skoter transport.\nMat\, dryck och kläder för två hel dagar utomhus.\nLedkort för minst två dagar: Fjällpass Skoter. Kan lösas på plats via appen eller dagarna innan på webben. \n\nFörkunskapskrav:\n\nPersonlig färdighet med din färdmedel och god form för en heldag utomhus.\n\nSamlingsplats: \n\nDag 1: Ljungdalen\, Skoter parkering\nDag 2: Ljungdalen\n\nTider: Kl 0900-1700 (viss avvikelse kan ske pga väder och turplanering) \nPris: 4750 SEK (ink moms)\n* Minimum antal deltagare 4\, max 8\n* Kontakta oss för familj/sällskapspaket \n \nTIllbaka till Kursinformation
URL:https://lavinskola.se/event/friakning-1-snoskoter/
LOCATION:Ljungdalen\, Ljungdalen\, Ljungdalen\, 84599\, Sverige
CATEGORIES:Friåkning 1 för Skoter
ATTACH;FMTTYPE=image/jpeg:https://lavinskola.se/wp-content/uploads/2022/10/IMG_1535-scaled.jpg
ORGANIZER;CN="John Wilcoxen":MAILTO:info@lavinskola.se
END:VEVENT
END:VCALENDAR