BEGIN:VCALENDAR
VERSION:2.0
PRODID:-//Funäsfjällens Lavinskola - ECPv6.2.9//NONSGML v1.0//EN
CALSCALE:GREGORIAN
METHOD:PUBLISH
X-ORIGINAL-URL:https://lavinskola.se
X-WR-CALDESC:Events for Funäsfjällens Lavinskola
REFRESH-INTERVAL;VALUE=DURATION:PT1H
X-Robots-Tag:noindex
X-PUBLISHED-TTL:PT1H
BEGIN:VTIMEZONE
TZID:Europe/Stockholm
BEGIN:DAYLIGHT
TZOFFSETFROM:+0100
TZOFFSETTO:+0200
TZNAME:CEST
DTSTART:20250330T010000
END:DAYLIGHT
BEGIN:STANDARD
TZOFFSETFROM:+0200
TZOFFSETTO:+0100
TZNAME:CET
DTSTART:20251026T010000
END:STANDARD
END:VTIMEZONE
BEGIN:VEVENT
DTSTART;TZID=Europe/Stockholm:20250106T080000
DTEND;TZID=Europe/Stockholm:20250108T170000
DTSTAMP:20260421T175839
CREATED:20241021T102056Z
LAST-MODIFIED:20241021T111356Z
UID:1573-1736150400-1736355600@lavinskola.se
SUMMARY:Pro 1: Introduktions till Lavinsäkerhetsarbete
DESCRIPTION:Grundutbildning i lavinsäkerhet för yrkesmänniskor som jobbar utomhus i fjällmiljö. Kursen ger lavinkunskap inom ramarna för svensk arbetsmiljö. Tre dagars kurs som går igenom lavinkunskap\, terräng identifiering\, kamraträddning\, organiserad räddning\, säkerhetsrutiner och utrustning\, riskanalys\, inhämtning av lavininformation\, rapportering av olyckor och observationer och mänskliga faktorer. Examinationsmoment i kamraträddning och identifiering av lavinterräng sker under kursen.\nFörkunskapskrav: \n\nUtbildning i Första hjälpen motsvarande minst tre dagar och som inkluderar HLR och hypotermi. Exempelvis SLAO Första hjälpen i backe\, NOLS Wilderness First Aid eller Adventure Medicine AOV\nGod fysisk form och möjlighet att transportera sig i pisten på ett kontrollerat och säkert sätt.\nPersonlig färdighet med din färdmedel (toppturskidor/snowboard).\n\nInkluderat i kursavgiften: \n\nTransceiver\, sond\, spade (ta med egen lavin utrustning om du har det) och kurslitteratur.\n*Utlägg för liftkort och vessel biljett kan tillkomma under kursen beroende på väder och förhållanden.*\n\nSamlingsplats:\n\nTänndalen. Detaljerad kurs information skickas via email efter bokning.\n\nPacklista:\n\nAnteckningsmaterial\nKlädsel lämplig för utomhusbruk\nFörstärkningsplagg (varm väst/jacka)\nTermos\, vatten och energirik mat\nObligatorisk: \n\nHjälm och glasögon/skyddsglasögon\nSkidor/splitboard\, stighudar\, stavar och pjäxor\nLavinryggsäck (ABS/Jetforce/LiTec). Går att hyra.\n\n\n\nMinimum antal deltagare: 4 \nMaximum antal deltagare: 6 \nPris: 5800 SEK (ink moms)\n \n \n\nÖVERGRIPANDE UTBILDNINGSMÅL: Deltagarna ska efter utbildningen… \n\nvara förberedda för yrkesmässigt arbete i lavinterräng\, under ledning eller med stöd av arbetsrutiner\nha kunskap och förmåga att ta ansvar för sin säkerhet och arbetsmiljö i närheten av lavinterräng\nkunna använda riskreducerande åtgärder\nsjälvständigt kunna genomföra en kamraträddning\, kunna överlämna ansvaret till organiserad räddning och kunna delta i en organiserad räddning under ledning.\n\nDETALJERADE UTBILDNINGSMÅL: Efter utbildningen ska deltagaren kunna…\n\nidentifiera och undvika lavinfarlig terräng (examineras)\ntolka\, använda och förmedla information om lavinfarlig terräng\nanvända riskreducerande åtgärder\nbeskriva hur mänskliga faktorer påverkar beslut och handling’\ngenomföra en effektiv och säker kamraträddning (examineras)\nstyrande lagstiftningar och hur man rapporterar olyckor och incidenter.\n\nEfter utbildningen ska deltagaren ha kännedom om:\n\ngrunderna i snökunskap och snöstabilitetsbedömning\nhur man tolkar och använder information om lavinfara\nhur man tolkar och använder väderinformation\nhur man rapporterar intressanta observationer\nSVELAV:s övriga yrkesinriktade lavinutbildningar.
URL:https://lavinskola.se/event/pro-1-introduktions-till-lavinsakerhetsarbete/
LOCATION:Funäsfjällens Lavinskola (Tänndalen)\, Hammervallsvägen\, Tänndalen\, 84698\, Sverige
CATEGORIES:Pro kurser
ATTACH;FMTTYPE=image/jpeg:https://lavinskola.se/wp-content/uploads/2022/10/IMG_1426-scaled.jpg
ORGANIZER;CN="John Wilcoxen":MAILTO:info@lavinskola.se
END:VEVENT
BEGIN:VEVENT
DTSTART;TZID=Europe/Stockholm:20250109T080000
DTEND;TZID=Europe/Stockholm:20250110T170000
DTSTAMP:20260421T175839
CREATED:20241025T062059Z
LAST-MODIFIED:20241025T062236Z
UID:1626-1736409600-1736528400@lavinskola.se
SUMMARY:Pro Lavinräddning
DESCRIPTION:Två dagars utbildning som riktar sig främst till de som genom sin yrkesroll kan komma att ingå i en organiserad lavinräddning. Det gäller exempelvis skidpatrullörer/pistörer\, fjällräddare\, olika typer av guider\, skidlärare\, liftvärdar med flera.\nÖVERGRIPANDE UTBILDNINGSMÅL: deltagarna ska kunna:\n\nIdentifiera\, bedöma och hantera risker vid en lavinolycka och – om säkerheten medger- påbörja en lavinräddning.\nHa förståelse för hur en lavinräddning organiseras för att initialt kunna leda en insats med hjälp av beslutsstöd och sedan överlämna det övergripande ansvaret när situationen så medger.\nSjälvständigt kunna utföra följande delmoment av räddningsinsatsen; initial organisation\, transceiversök\, RECCO-sök\, grävning och första-hjälpen-omhändertagande.\n\nDELMÅL SÄKERHET OCH ORGANISATION: Efter godkänd utbildning ska deltagarna kunna:\n\nFörklara skillnaden mellan kamraträddning och organiserad lavinräddning.\nBeskriva de viktigaste momenten i en organiserad lavinräddning.\nBedöma och hantera risker vid en lavinolycka med hjälp av beslutsstöd.\nStarta upp den initiala fasen i en organiserad lavinräddningen med hjälp av beslutsstöd.\nPrioritera resurserna vid flera saknade och skadade.\n\nDELMÅL SÖKSYSTEM: Efter utbildningen ska deltagaren kunna:\n\nSöka med transceiver och sond för att hitta två saknade samt prioritera vilken av dessa man skall gräva fram först (examineras).\nSöka med RECCO och sond för att hitta två saknade samt prioritera vilken av dessa man skall gräva fram först.\nLeda sondkedjor enligt två tekniker.\nLavinhund som söksystem.\nHelikopterns roll vid lavinolyckor.\n\nDELMÅL GRÄVNING: Efter utbildningen ska deltagarna kunna:\n\nGenomföra strukturerad och effektiv grävning.\nOrganisera och leda sådan grävning.\n\nDELMÅL OMHÄNDERTAGANDE OCH LAVINMEDICIN: Efter utbildningen ska deltagarna kunna:\n\nGenomföra ett första omhändertagande av lavinskadad (HLR och Första hjälpen).\nFölja samt fylla i algoritm AvaLife BLS.\nGrunderna i lavinmedicin.\n\nFÖRKUNSKAPSKRAV DELTAGARE\n\nMinst tre dagars första-hjälpen-utbildning med följande innehåll:\n\nS/L-ABCDE (eller liknande algoritm)\nHjärt- och lungräddning\nHypotermi\nImmobilisering inklusive stabilisering av frakturer\n\n\nDeltagarna bör även ha tränat sökning med transceiver innan kursen\n\nMinimum antal deltagare: 4 \nMaximum antal deltagare: 6 \nPris: 4800 SEK inklusive moms
URL:https://lavinskola.se/event/pro-lavinraddning-2/
LOCATION:Funäsdalsberget
CATEGORIES:Pro kurser
ATTACH;FMTTYPE=image/jpeg:https://lavinskola.se/wp-content/uploads/2024/10/7D4CBD4F-90C7-4098-91E0-4B72981351F6_4_5005_c.jpeg
ORGANIZER;CN="Lavinskolan":MAILTO:info@lavinskola.se
END:VEVENT
END:VCALENDAR